Package: randRotation Version: 1.19.0 Command: /home/biocbuild/R/R/bin/R CMD INSTALL randRotation StartedAt: 2025-01-29 19:34:31 -0000 (Wed, 29 Jan 2025) EndedAt: 2025-01-29 19:34:50 -0000 (Wed, 29 Jan 2025) EllapsedTime: 18.6 seconds RetCode: 0 Status: OK