Package: ramwas Version: 1.31.0 Command: E:\biocbuild\bbs-3.21-bioc\R\bin\R.exe CMD INSTALL ramwas StartedAt: 2025-01-31 16:24:01 -0500 (Fri, 31 Jan 2025) EndedAt: 2025-01-31 16:25:07 -0500 (Fri, 31 Jan 2025) EllapsedTime: 65.8 seconds RetCode: 0 Status: OK