Package: ramwas Version: 1.31.0 Command: E:\biocbuild\bbs-3.21-bioc\R\bin\R.exe CMD check --no-multiarch --install=check:ramwas.install-out.txt --library=E:\biocbuild\bbs-3.21-bioc\R\library --no-vignettes --timings ramwas_1.31.0.tar.gz StartedAt: 2025-02-01 04:07:06 -0500 (Sat, 01 Feb 2025) EndedAt: 2025-02-01 04:11:56 -0500 (Sat, 01 Feb 2025) EllapsedTime: 289.8 seconds RetCode: 0 Status: OK CheckDir: ramwas.Rcheck Warnings: 0