Package: rTRMui Version: 1.45.0 Command: chmod a+r rTRMui -R && E:\biocbuild\bbs-3.21-bioc\R\bin\R.exe CMD build --keep-empty-dirs --no-resave-data rTRMui StartedAt: 2025-01-31 21:07:15 -0500 (Fri, 31 Jan 2025) EndedAt: 2025-01-31 21:08:32 -0500 (Fri, 31 Jan 2025) EllapsedTime: 77.1 seconds RetCode: 0 Status: OK PackageFile: rTRMui_1.45.0.tar.gz PackageFileSize: 1.019 MiB