Package: rTRMui Version: 1.45.0 Command: /Library/Frameworks/R.framework/Resources/bin/R CMD build --keep-empty-dirs --no-resave-data rTRMui StartedAt: 2025-01-31 17:29:34 -0500 (Fri, 31 Jan 2025) EndedAt: 2025-01-31 17:30:00 -0500 (Fri, 31 Jan 2025) EllapsedTime: 26.3 seconds RetCode: 0 Status: OK PackageFile: rTRMui_1.45.0.tar.gz PackageFileSize: 1.11 MiB