Package: rGenomeTracks Version: 1.13.0 Command: /Library/Frameworks/R.framework/Resources/bin/R CMD INSTALL rGenomeTracks StartedAt: 2025-02-02 15:19:11 -0500 (Sun, 02 Feb 2025) EndedAt: 2025-02-02 15:19:20 -0500 (Sun, 02 Feb 2025) EllapsedTime: 8.9 seconds RetCode: 0 Status: OK