Package: rGenomeTracks Version: 1.13.0 Command: rm -rf rGenomeTracks.buildbin-libdir && mkdir rGenomeTracks.buildbin-libdir && /Users/biocbuild/BBS/utils/build-universal.sh rGenomeTracks_1.13.0.tar.gz /Library/Frameworks/R.framework/Resources/bin/R rGenomeTracks.buildbin-libdir StartedAt: 2025-02-03 00:40:34 -0500 (Mon, 03 Feb 2025) EndedAt: 2025-02-03 00:40:46 -0500 (Mon, 03 Feb 2025) EllapsedTime: 12.7 seconds RetCode: 0 Status: OK PackageFile: rGenomeTracks_1.13.0.tgz PackageFileSize: 3.409 MiB