Package: rGADEM Version: 2.55.0 Command: E:\biocbuild\bbs-3.21-bioc\R\bin\R.exe CMD INSTALL rGADEM StartedAt: 2025-01-31 16:02:33 -0500 (Fri, 31 Jan 2025) EndedAt: 2025-01-31 16:03:47 -0500 (Fri, 31 Jan 2025) EllapsedTime: 74.2 seconds RetCode: 0 Status: OK