Package: quantsmooth Version: 1.73.0 Command: /Library/Frameworks/R.framework/Resources/bin/R CMD INSTALL quantsmooth StartedAt: 2025-01-31 15:21:30 -0500 (Fri, 31 Jan 2025) EndedAt: 2025-01-31 15:21:33 -0500 (Fri, 31 Jan 2025) EllapsedTime: 3.1 seconds RetCode: 0 Status: OK