Package: quantsmooth Version: 1.73.0 Command: rm -rf quantsmooth.buildbin-libdir && mkdir quantsmooth.buildbin-libdir && /Users/biocbuild/BBS/utils/build-universal.sh quantsmooth_1.73.0.tar.gz /Library/Frameworks/R.framework/Resources/bin/R quantsmooth.buildbin-libdir StartedAt: 2025-01-31 22:28:09 -0500 (Fri, 31 Jan 2025) EndedAt: 2025-01-31 22:28:13 -0500 (Fri, 31 Jan 2025) EllapsedTime: 4.1 seconds RetCode: 0 Status: OK PackageFile: quantsmooth_1.73.0.tgz PackageFileSize: 421.6 KiB