Package: qcmetrics Version: 1.45.0 Command: /Library/Frameworks/R.framework/Resources/bin/R CMD build --keep-empty-dirs --no-resave-data qcmetrics StartedAt: 2025-01-31 17:53:12 -0500 (Fri, 31 Jan 2025) EndedAt: 2025-01-31 17:53:46 -0500 (Fri, 31 Jan 2025) EllapsedTime: 34.3 seconds RetCode: 0 Status: OK PackageFile: qcmetrics_1.45.0.tar.gz PackageFileSize: 4.216 MiB