Package: ptairMS Version: 1.15.0 Command: /Library/Frameworks/R.framework/Resources/bin/R CMD INSTALL ptairMS StartedAt: 2025-01-31 15:27:58 -0500 (Fri, 31 Jan 2025) EndedAt: 2025-01-31 15:28:05 -0500 (Fri, 31 Jan 2025) EllapsedTime: 7.3 seconds RetCode: 0 Status: OK