Package: ptairMS Version: 1.15.0 Command: /Library/Frameworks/R.framework/Resources/bin/R CMD check --install=check:ptairMS.install-out.txt --library=/Library/Frameworks/R.framework/Resources/library --no-vignettes --timings ptairMS_1.15.0.tar.gz StartedAt: 2025-01-31 20:49:54 -0500 (Fri, 31 Jan 2025) EndedAt: 2025-01-31 20:53:09 -0500 (Fri, 31 Jan 2025) EllapsedTime: 194.3 seconds RetCode: 1 Status: ERROR CheckDir: ptairMS.Rcheck Warnings: NA