Package: profileScoreDist Version: 1.35.0 Command: /Library/Frameworks/R.framework/Resources/bin/R CMD INSTALL profileScoreDist StartedAt: 2025-01-31 15:08:20 -0500 (Fri, 31 Jan 2025) EndedAt: 2025-01-31 15:08:56 -0500 (Fri, 31 Jan 2025) EllapsedTime: 36.3 seconds RetCode: 0 Status: OK