Package: procoil Version: 2.35.0 Command: E:\biocbuild\bbs-3.21-bioc\R\bin\R.exe CMD INSTALL procoil StartedAt: 2025-02-02 15:43:56 -0500 (Sun, 02 Feb 2025) EndedAt: 2025-02-02 15:44:34 -0500 (Sun, 02 Feb 2025) EllapsedTime: 38.2 seconds RetCode: 0 Status: OK