Package: proActiv Version: 1.17.0 Command: /home/biocbuild/bbs-3.21-bioc/R/bin/R CMD INSTALL proActiv StartedAt: 2025-01-31 15:57:29 -0500 (Fri, 31 Jan 2025) EndedAt: 2025-01-31 15:58:11 -0500 (Fri, 31 Jan 2025) EllapsedTime: 41.8 seconds RetCode: 0 Status: OK