Package: proActiv Version: 1.17.0 Command: /home/biocbuild/bbs-3.21-bioc/R/bin/R CMD build --keep-empty-dirs --no-resave-data proActiv StartedAt: 2025-01-31 18:44:36 -0500 (Fri, 31 Jan 2025) EndedAt: 2025-01-31 18:45:37 -0500 (Fri, 31 Jan 2025) EllapsedTime: 61.1 seconds RetCode: 0 Status: OK PackageFile: proActiv_1.17.0.tar.gz PackageFileSize: 2.666 MiB