Package: preciseTAD Version: 1.17.0 Command: /home/biocbuild/bbs-3.21-bioc/R/bin/R CMD check --install=check:preciseTAD.install-out.txt --library=/home/biocbuild/bbs-3.21-bioc/R/site-library --timings preciseTAD_1.17.0.tar.gz StartedAt: 2025-02-01 01:20:26 -0500 (Sat, 01 Feb 2025) EndedAt: 2025-02-01 01:34:11 -0500 (Sat, 01 Feb 2025) EllapsedTime: 825.1 seconds RetCode: 0 Status: OK CheckDir: preciseTAD.Rcheck Warnings: 0