Package: prebs Version: 1.47.0 Command: chmod a+r prebs -R && E:\biocbuild\bbs-3.21-bioc\R\bin\R.exe CMD build --keep-empty-dirs --no-resave-data prebs StartedAt: 2025-01-31 20:40:16 -0500 (Fri, 31 Jan 2025) EndedAt: 2025-01-31 20:45:01 -0500 (Fri, 31 Jan 2025) EllapsedTime: 284.5 seconds RetCode: 0 Status: OK PackageFile: prebs_1.47.0.tar.gz PackageFileSize: 146.5 KiB