Package: ppcseq Version: 1.15.0 Command: /Library/Frameworks/R.framework/Resources/bin/R CMD build --keep-empty-dirs --no-resave-data ppcseq StartedAt: 2025-01-31 17:17:42 -0500 (Fri, 31 Jan 2025) EndedAt: 2025-01-31 17:18:22 -0500 (Fri, 31 Jan 2025) EllapsedTime: 40.5 seconds RetCode: 0 Status: OK PackageFile: ppcseq_1.15.0.tar.gz PackageFileSize: 1.939 MiB