Package: podkat Version: 1.39.0 Command: rm -rf podkat.buildbin-libdir && mkdir podkat.buildbin-libdir && E:\biocbuild\bbs-3.21-bioc\R\bin\R.exe CMD INSTALL --build --library=podkat.buildbin-libdir podkat_1.39.0.tar.gz StartedAt: 2025-02-01 07:54:22 -0500 (Sat, 01 Feb 2025) EndedAt: 2025-02-01 07:56:23 -0500 (Sat, 01 Feb 2025) EllapsedTime: 120.4 seconds RetCode: 0 Status: OK PackageFile: podkat_1.39.0.zip PackageFileSize: 6.886 MiB