Package: podkat Version: 1.39.0 Command: /Library/Frameworks/R.framework/Resources/bin/R CMD INSTALL podkat StartedAt: 2025-01-31 15:11:12 -0500 (Fri, 31 Jan 2025) EndedAt: 2025-01-31 15:11:40 -0500 (Fri, 31 Jan 2025) EllapsedTime: 27.9 seconds RetCode: 0 Status: OK