Package: pmm Version: 1.39.0 Command: E:\biocbuild\bbs-3.21-bioc\R\bin\R.exe CMD INSTALL pmm StartedAt: 2025-02-02 15:28:59 -0500 (Sun, 02 Feb 2025) EndedAt: 2025-02-02 15:29:18 -0500 (Sun, 02 Feb 2025) EllapsedTime: 18.4 seconds RetCode: 0 Status: OK