Package: plyranges Version: 1.27.0 Command: /Library/Frameworks/R.framework/Resources/bin/R CMD check --install=check:plyranges.install-out.txt --library=/Library/Frameworks/R.framework/Resources/library --no-vignettes --timings plyranges_1.27.0.tar.gz StartedAt: 2025-01-31 20:44:15 -0500 (Fri, 31 Jan 2025) EndedAt: 2025-01-31 20:45:59 -0500 (Fri, 31 Jan 2025) EllapsedTime: 103.2 seconds RetCode: 1 Status: ERROR CheckDir: plyranges.Rcheck Warnings: NA