Package: plotgardener Version: 1.13.0 Command: /home/biocbuild/R/R/bin/R CMD INSTALL plotgardener StartedAt: 2025-01-29 19:58:33 -0000 (Wed, 29 Jan 2025) EndedAt: 2025-01-29 19:59:43 -0000 (Wed, 29 Jan 2025) EllapsedTime: 69.7 seconds RetCode: 0 Status: OK