Package: plotGrouper Version: 1.25.0 Command: chmod a+r plotGrouper -R && E:\biocbuild\bbs-3.21-bioc\R\bin\R.exe CMD build --keep-empty-dirs --no-resave-data plotGrouper StartedAt: 2025-01-31 20:35:47 -0500 (Fri, 31 Jan 2025) EndedAt: 2025-01-31 20:35:59 -0500 (Fri, 31 Jan 2025) EllapsedTime: 11.8 seconds RetCode: 1 Status: ERROR PackageFile: None PackageFileSize: NA