Package: plasmut Version: 1.5.0 Command: /home/biocbuild/bbs-3.21-bioc/R/bin/R CMD INSTALL plasmut StartedAt: 2025-01-31 15:11:45 -0500 (Fri, 31 Jan 2025) EndedAt: 2025-01-31 15:11:54 -0500 (Fri, 31 Jan 2025) EllapsedTime: 8.7 seconds RetCode: 0 Status: OK