Package: plasmut Version: 1.5.0 Command: rm -rf plasmut.buildbin-libdir && mkdir plasmut.buildbin-libdir && /Users/biocbuild/BBS/utils/build-universal.sh plasmut_1.5.0.tar.gz /Library/Frameworks/R.framework/Resources/bin/R plasmut.buildbin-libdir StartedAt: 2025-02-01 00:31:45 -0500 (Sat, 01 Feb 2025) EndedAt: 2025-02-01 00:31:51 -0500 (Sat, 01 Feb 2025) EllapsedTime: 5.8 seconds RetCode: 0 Status: OK PackageFile: plasmut_1.5.0.tgz PackageFileSize: 349.8 KiB