Package: plasmut Version: 1.5.0 Command: /home/biocbuild/R/R/bin/R CMD INSTALL plasmut StartedAt: 2025-01-29 19:34:00 -0000 (Wed, 29 Jan 2025) EndedAt: 2025-01-29 19:34:14 -0000 (Wed, 29 Jan 2025) EllapsedTime: 14.2 seconds RetCode: 0 Status: OK