Package: pipeFrame Version: 1.23.0 Command: /Library/Frameworks/R.framework/Resources/bin/R CMD check --install=check:pipeFrame.install-out.txt --library=/Library/Frameworks/R.framework/Resources/library --no-vignettes --timings pipeFrame_1.23.0.tar.gz StartedAt: 2025-01-31 22:14:44 -0500 (Fri, 31 Jan 2025) EndedAt: 2025-01-31 22:19:17 -0500 (Fri, 31 Jan 2025) EllapsedTime: 273.5 seconds RetCode: 0 Status: OK CheckDir: pipeFrame.Rcheck Warnings: 0