Package: pipeFrame Version: 1.23.0 Command: /Library/Frameworks/R.framework/Resources/bin/R CMD build --keep-empty-dirs --no-resave-data pipeFrame StartedAt: 2025-01-31 17:49:31 -0500 (Fri, 31 Jan 2025) EndedAt: 2025-01-31 17:50:28 -0500 (Fri, 31 Jan 2025) EllapsedTime: 57.1 seconds RetCode: 0 Status: OK PackageFile: pipeFrame_1.23.0.tar.gz PackageFileSize: 1.195 MiB