Package: piano Version: 2.23.0 Command: chmod a+r piano -R && E:\biocbuild\bbs-3.21-bioc\R\bin\R.exe CMD build --keep-empty-dirs --no-resave-data piano StartedAt: 2025-01-31 20:34:01 -0500 (Fri, 31 Jan 2025) EndedAt: 2025-01-31 20:34:53 -0500 (Fri, 31 Jan 2025) EllapsedTime: 52.8 seconds RetCode: 0 Status: OK PackageFile: piano_2.23.0.tar.gz PackageFileSize: 1.534 MiB