Package: philr Version: 1.33.0 Command: /home/biocbuild/bbs-3.21-bioc/R/bin/R CMD check --install=check:philr.install-out.txt --library=/home/biocbuild/bbs-3.21-bioc/R/site-library --timings philr_1.33.0.tar.gz StartedAt: 2025-02-01 01:12:53 -0500 (Sat, 01 Feb 2025) EndedAt: 2025-02-01 01:14:54 -0500 (Sat, 01 Feb 2025) EllapsedTime: 120.2 seconds RetCode: 0 Status: OK CheckDir: philr.Rcheck Warnings: 0