Package: philr Version: 1.33.0 Command: /Library/Frameworks/R.framework/Resources/bin/R CMD INSTALL philr StartedAt: 2025-01-31 15:12:41 -0500 (Fri, 31 Jan 2025) EndedAt: 2025-01-31 15:12:45 -0500 (Fri, 31 Jan 2025) EllapsedTime: 4.1 seconds RetCode: 0 Status: OK