Package: phenopath Version: 1.31.0 Command: /home/biocbuild/bbs-3.21-bioc/R/bin/R CMD check --install=check:phenopath.install-out.txt --library=/home/biocbuild/bbs-3.21-bioc/R/site-library --timings phenopath_1.31.0.tar.gz StartedAt: 2025-02-01 01:12:15 -0500 (Sat, 01 Feb 2025) EndedAt: 2025-02-01 01:15:24 -0500 (Sat, 01 Feb 2025) EllapsedTime: 188.4 seconds RetCode: 0 Status: OK CheckDir: phenopath.Rcheck Warnings: 0