Package: phenopath Version: 1.31.0 Command: /Library/Frameworks/R.framework/Resources/bin/R CMD check --install=check:phenopath.install-out.txt --library=/Library/Frameworks/R.framework/Resources/library --no-vignettes --timings phenopath_1.31.0.tar.gz StartedAt: 2025-01-31 22:12:55 -0500 (Fri, 31 Jan 2025) EndedAt: 2025-01-31 22:16:03 -0500 (Fri, 31 Jan 2025) EllapsedTime: 188.1 seconds RetCode: 0 Status: OK CheckDir: phenopath.Rcheck Warnings: 0