Package: phantasusLite Version: 1.5.0 Command: /Library/Frameworks/R.framework/Resources/bin/R CMD INSTALL phantasusLite StartedAt: 2025-01-31 15:12:46 -0500 (Fri, 31 Jan 2025) EndedAt: 2025-01-31 15:13:07 -0500 (Fri, 31 Jan 2025) EllapsedTime: 21.0 seconds RetCode: 0 Status: OK