Package: pgxRpi Version: 1.3.2 Command: /Library/Frameworks/R.framework/Resources/bin/R CMD check --install=check:pgxRpi.install-out.txt --library=/Library/Frameworks/R.framework/Resources/library --no-vignettes --timings pgxRpi_1.3.2.tar.gz StartedAt: 2025-01-31 20:40:58 -0500 (Fri, 31 Jan 2025) EndedAt: 2025-01-31 20:53:09 -0500 (Fri, 31 Jan 2025) EllapsedTime: 730.7 seconds RetCode: 1 Status: ERROR CheckDir: pgxRpi.Rcheck Warnings: NA