Package: pgxRpi Version: 1.3.2 Command: /Library/Frameworks/R.framework/Resources/bin/R CMD build --keep-empty-dirs --no-resave-data pgxRpi StartedAt: 2025-01-31 17:15:52 -0500 (Fri, 31 Jan 2025) EndedAt: 2025-01-31 17:19:51 -0500 (Fri, 31 Jan 2025) EllapsedTime: 239.9 seconds RetCode: 0 Status: OK PackageFile: pgxRpi_1.3.2.tar.gz PackageFileSize: 2.943 MiB