Package: pepXMLTab Version: 1.41.0 Command: rm -rf pepXMLTab.buildbin-libdir && mkdir pepXMLTab.buildbin-libdir && E:\biocbuild\bbs-3.21-bioc\R\bin\R.exe CMD INSTALL --build --library=pepXMLTab.buildbin-libdir pepXMLTab_1.41.0.tar.gz StartedAt: 2025-02-01 07:52:31 -0500 (Sat, 01 Feb 2025) EndedAt: 2025-02-01 07:52:41 -0500 (Sat, 01 Feb 2025) EllapsedTime: 10.3 seconds RetCode: 0 Status: OK PackageFile: pepXMLTab_1.41.0.zip PackageFileSize: 204 KiB