Package: pcaExplorer Version: 3.1.1 Command: /Library/Frameworks/R.framework/Resources/bin/R CMD build --keep-empty-dirs --no-resave-data pcaExplorer StartedAt: 2025-01-31 17:14:53 -0500 (Fri, 31 Jan 2025) EndedAt: 2025-01-31 17:15:44 -0500 (Fri, 31 Jan 2025) EllapsedTime: 51.6 seconds RetCode: 0 Status: OK PackageFile: pcaExplorer_3.1.1.tar.gz PackageFileSize: 10.77 MiB