Package: paxtoolsr Version: 1.41.1 Command: /Library/Frameworks/R.framework/Resources/bin/R CMD INSTALL paxtoolsr StartedAt: 2025-01-31 15:03:45 -0500 (Fri, 31 Jan 2025) EndedAt: 2025-01-31 15:03:48 -0500 (Fri, 31 Jan 2025) EllapsedTime: 3.0 seconds RetCode: 0 Status: OK