Package: pathwayPCA Version: 1.23.0 Command: /Library/Frameworks/R.framework/Resources/bin/R CMD INSTALL pathwayPCA StartedAt: 2025-01-31 15:40:26 -0500 (Fri, 31 Jan 2025) EndedAt: 2025-01-31 15:40:38 -0500 (Fri, 31 Jan 2025) EllapsedTime: 11.9 seconds RetCode: 0 Status: OK