Package: pathview Version: 1.47.0 Command: /Library/Frameworks/R.framework/Resources/bin/R CMD build --keep-empty-dirs --no-resave-data pathview StartedAt: 2025-01-31 17:14:45 -0500 (Fri, 31 Jan 2025) EndedAt: 2025-01-31 17:15:39 -0500 (Fri, 31 Jan 2025) EllapsedTime: 54.6 seconds RetCode: 0 Status: OK PackageFile: pathview_1.47.0.tar.gz PackageFileSize: 2.398 MiB