Package: parody Version: 1.65.0 Command: /home/biocbuild/R/R/bin/R CMD INSTALL parody StartedAt: 2025-01-29 19:34:39 -0000 (Wed, 29 Jan 2025) EndedAt: 2025-01-29 19:35:05 -0000 (Wed, 29 Jan 2025) EllapsedTime: 26.0 seconds RetCode: 0 Status: OK