Package: panelcn.mops Version: 1.29.0 Command: /home/biocbuild/R/R/bin/R CMD build --keep-empty-dirs --no-resave-data panelcn.mops StartedAt: 2025-01-29 01:10:08 -0000 (Wed, 29 Jan 2025) EndedAt: 2025-01-29 01:10:50 -0000 (Wed, 29 Jan 2025) EllapsedTime: 42.1 seconds RetCode: 0 Status: OK PackageFile: panelcn.mops_1.29.0.tar.gz PackageFileSize: 597.5 KiB