Package: paircompviz Version: 1.45.0 Command: /home/biocbuild/bbs-3.21-bioc/R/bin/R CMD INSTALL paircompviz StartedAt: 2025-01-31 15:12:27 -0500 (Fri, 31 Jan 2025) EndedAt: 2025-01-31 15:12:47 -0500 (Fri, 31 Jan 2025) EllapsedTime: 19.3 seconds RetCode: 0 Status: OK