Package: padma Version: 1.17.0 Command: /Library/Frameworks/R.framework/Resources/bin/R CMD INSTALL padma StartedAt: 2025-01-31 15:40:12 -0500 (Fri, 31 Jan 2025) EndedAt: 2025-01-31 15:40:47 -0500 (Fri, 31 Jan 2025) EllapsedTime: 35.0 seconds RetCode: 0 Status: OK