Package: padma Version: 1.17.0 Command: /Library/Frameworks/R.framework/Resources/bin/R CMD check --install=check:padma.install-out.txt --library=/Library/Frameworks/R.framework/Resources/library --no-vignettes --timings padma_1.17.0.tar.gz StartedAt: 2025-01-31 22:04:59 -0500 (Fri, 31 Jan 2025) EndedAt: 2025-01-31 22:10:11 -0500 (Fri, 31 Jan 2025) EllapsedTime: 312.4 seconds RetCode: 0 Status: OK CheckDir: padma.Rcheck Warnings: 0