Package: pRolocGUI Version: 2.17.0 Command: rm -rf pRolocGUI.buildbin-libdir && mkdir pRolocGUI.buildbin-libdir && E:\biocbuild\bbs-3.21-bioc\R\bin\R.exe CMD INSTALL --build --library=pRolocGUI.buildbin-libdir pRolocGUI_2.17.0.tar.gz StartedAt: 2025-02-01 07:55:53 -0500 (Sat, 01 Feb 2025) EndedAt: 2025-02-01 07:56:51 -0500 (Sat, 01 Feb 2025) EllapsedTime: 58.6 seconds RetCode: 0 Status: OK PackageFile: pRolocGUI_2.17.0.zip PackageFileSize: 1.774 MiB